
BEGIN:VCALENDAR
VERSION:2.0
PRODID:-//Przedszkole nr 17 Sióstr Służebniczek w Krakowie - ECPv6.15.20//NONSGML v1.0//EN
CALSCALE:GREGORIAN
METHOD:PUBLISH
X-ORIGINAL-URL:https://p17.pl
X-WR-CALDESC:Wydarzenia dla Przedszkole nr 17 Sióstr Służebniczek w Krakowie
REFRESH-INTERVAL;VALUE=DURATION:PT1H
X-Robots-Tag:noindex
X-PUBLISHED-TTL:PT1H
BEGIN:VTIMEZONE
TZID:Europe/Warsaw
BEGIN:DAYLIGHT
TZOFFSETFROM:+0100
TZOFFSETTO:+0200
TZNAME:CEST
DTSTART:20220327T010000
END:DAYLIGHT
BEGIN:STANDARD
TZOFFSETFROM:+0200
TZOFFSETTO:+0100
TZNAME:CET
DTSTART:20221030T010000
END:STANDARD
BEGIN:DAYLIGHT
TZOFFSETFROM:+0100
TZOFFSETTO:+0200
TZNAME:CEST
DTSTART:20230326T010000
END:DAYLIGHT
BEGIN:STANDARD
TZOFFSETFROM:+0200
TZOFFSETTO:+0100
TZNAME:CET
DTSTART:20231029T010000
END:STANDARD
BEGIN:DAYLIGHT
TZOFFSETFROM:+0100
TZOFFSETTO:+0200
TZNAME:CEST
DTSTART:20240331T010000
END:DAYLIGHT
BEGIN:STANDARD
TZOFFSETFROM:+0200
TZOFFSETTO:+0100
TZNAME:CET
DTSTART:20241027T010000
END:STANDARD
BEGIN:DAYLIGHT
TZOFFSETFROM:+0100
TZOFFSETTO:+0200
TZNAME:CEST
DTSTART:20250330T010000
END:DAYLIGHT
BEGIN:STANDARD
TZOFFSETFROM:+0200
TZOFFSETTO:+0100
TZNAME:CET
DTSTART:20251026T010000
END:STANDARD
END:VTIMEZONE
BEGIN:VEVENT
DTSTART;TZID=Europe/Warsaw:20241106T090000
DTEND;TZID=Europe/Warsaw:20241106T120000
DTSTAMP:20260421T143833
CREATED:20241003T084359Z
LAST-MODIFIED:20241003T121600Z
UID:8428-1730883600-1730894400@p17.pl
SUMMARY:Akademia Patriotyczna Skarby
DESCRIPTION:
URL:https://p17.pl/wydarzenie/akademia-patriotyczna-skarby/
CATEGORIES:Wydarzenia
END:VEVENT
BEGIN:VEVENT
DTSTART;VALUE=DATE:20241031
DTEND;VALUE=DATE:20241101
DTSTAMP:20260421T143833
CREATED:20241003T083712Z
LAST-MODIFIED:20241003T121623Z
UID:8426-1730332800-1730419199@p17.pl
SUMMARY:"Bal wszystkich świętych" świętowanie z krakowskimi świętymi
DESCRIPTION:
URL:https://p17.pl/wydarzenie/bal-wszystkich-swietych-swietowanie-z-krakowskimi-swietymi/
CATEGORIES:Wydarzenia
END:VEVENT
BEGIN:VEVENT
DTSTART;TZID=Europe/Warsaw:20241023T090000
DTEND;TZID=Europe/Warsaw:20241023T120000
DTSTAMP:20260421T143833
CREATED:20241003T070256Z
LAST-MODIFIED:20241003T121707Z
UID:8421-1729674000-1729684800@p17.pl
SUMMARY:"Kraków i Małopolska" - konkurs recytatorski
DESCRIPTION:
URL:https://p17.pl/wydarzenie/krakow-i-malopolska-konkurs-recytatorski/
CATEGORIES:Wydarzenia
END:VEVENT
BEGIN:VEVENT
DTSTART;TZID=Europe/Warsaw:20241015T090000
DTEND;TZID=Europe/Warsaw:20241015T130000
DTSTAMP:20260421T143833
CREATED:20241003T070037Z
LAST-MODIFIED:20241003T121227Z
UID:8419-1728982800-1728997200@p17.pl
SUMMARY:Warsztaty Misia
DESCRIPTION:
URL:https://p17.pl/wydarzenie/warsztaty-misia/
CATEGORIES:Zajęcia dodatkowe
END:VEVENT
BEGIN:VEVENT
DTSTART;TZID=Europe/Warsaw:20241007T153000
DTEND;TZID=Europe/Warsaw:20241007T163000
DTSTAMP:20260421T143833
CREATED:20241003T055523Z
LAST-MODIFIED:20241003T114930Z
UID:8402-1728315000-1728318600@p17.pl
SUMMARY:Zajęcia otwarte Skarby
DESCRIPTION:
URL:https://p17.pl/wydarzenie/zajecia-otwarte-skarbow-2/
CATEGORIES:Rodzice,Wydarzenia
END:VEVENT
BEGIN:VEVENT
DTSTART;TZID=Europe/Warsaw:20240612T090000
DTEND;TZID=Europe/Warsaw:20240612T120000
DTSTAMP:20260421T143833
CREATED:20240207T153950Z
LAST-MODIFIED:20240207T153950Z
UID:4080-1718182800-1718193600@p17.pl
SUMMARY:Ogród doświadczeń Skarby
DESCRIPTION:
URL:https://p17.pl/wydarzenie/ogrod-doswiadczen-skarby/
CATEGORIES:Wycieczki
END:VEVENT
BEGIN:VEVENT
DTSTART;TZID=Europe/Warsaw:20240606T090000
DTEND;TZID=Europe/Warsaw:20240606T140000
DTSTAMP:20260421T143833
CREATED:20240207T152647Z
LAST-MODIFIED:20240422T151413Z
UID:4061-1717664400-1717682400@p17.pl
SUMMARY:"Życzliwe wiersze" konkurs recytatorski
DESCRIPTION:
URL:https://p17.pl/wydarzenie/zyczliwe-wiersze-konkurs-recytatorski/
CATEGORIES:Wydarzenia
END:VEVENT
BEGIN:VEVENT
DTSTART;VALUE=DATE:20240520
DTEND;VALUE=DATE:20240525
DTSTAMP:20260421T143833
CREATED:20240207T153337Z
LAST-MODIFIED:20240207T153337Z
UID:4073-1716163200-1716595199@p17.pl
SUMMARY:Zielone Przedszkole Grupy Starsze
DESCRIPTION:
URL:https://p17.pl/wydarzenie/zielone-przedszkole-grupy-starsze/
CATEGORIES:Wycieczki
END:VEVENT
BEGIN:VEVENT
DTSTART;TZID=Europe/Warsaw:20240515T153000
DTEND;TZID=Europe/Warsaw:20240515T163000
DTSTAMP:20260421T143833
CREATED:20240207T153110Z
LAST-MODIFIED:20240207T153110Z
UID:4069-1715787000-1715790600@p17.pl
SUMMARY:Dzień Rodziny Skarby
DESCRIPTION:
URL:https://p17.pl/wydarzenie/dzien-rodziny-skarby/
CATEGORIES:Wydarzenia
END:VEVENT
BEGIN:VEVENT
DTSTART;TZID=Europe/Warsaw:20240418T100000
DTEND;TZID=Europe/Warsaw:20240418T160000
DTSTAMP:20260421T143833
CREATED:20240207T152414Z
LAST-MODIFIED:20240207T152456Z
UID:4059-1713434400-1713456000@p17.pl
SUMMARY:Aplandia wycieczka\, warsztaty
DESCRIPTION:
URL:https://p17.pl/wydarzenie/aplandia-wycieczka-warsztaty/
CATEGORIES:Wycieczki
END:VEVENT
BEGIN:VEVENT
DTSTART;TZID=Europe/Warsaw:20240312T150000
DTEND;TZID=Europe/Warsaw:20240312T160000
DTSTAMP:20260421T143833
CREATED:20240205T140646Z
LAST-MODIFIED:20240207T151847Z
UID:4034-1710255600-1710259200@p17.pl
SUMMARY:Zajęcia otwarte Skarbów
DESCRIPTION:
URL:https://p17.pl/wydarzenie/zajecia-otwarte-skarbow/
CATEGORIES:Rodzice,Wydarzenia
END:VEVENT
BEGIN:VEVENT
DTSTART;TZID=Europe/Warsaw:20240227T090000
DTEND;TZID=Europe/Warsaw:20240227T123000
DTSTAMP:20260421T143833
CREATED:20240205T134059Z
LAST-MODIFIED:20240207T152016Z
UID:4017-1709024400-1709037000@p17.pl
SUMMARY:Anikino- wyjście Skarbów
DESCRIPTION:
URL:https://p17.pl/wydarzenie/anikino-wyjscie-skarbow/
CATEGORIES:Wycieczki
END:VEVENT
BEGIN:VEVENT
DTSTART;TZID=Europe/Warsaw:20240216T123000
DTEND;TZID=Europe/Warsaw:20240216T133000
DTSTAMP:20260421T143833
CREATED:20240205T100102Z
LAST-MODIFIED:20240205T100102Z
UID:4007-1708086600-1708090200@p17.pl
SUMMARY:Spotkanie z Harcerzami
DESCRIPTION:
URL:https://p17.pl/wydarzenie/spotkanie-z-harcerzami/
CATEGORIES:Wydarzenia
END:VEVENT
BEGIN:VEVENT
DTSTART;TZID=Europe/Warsaw:20240213T090000
DTEND;TZID=Europe/Warsaw:20240213T120000
DTSTAMP:20260421T143833
CREATED:20240122T182515Z
LAST-MODIFIED:20240122T182515Z
UID:3500-1707814800-1707825600@p17.pl
SUMMARY:Spotkanie ze zwierzętami egzotycznymi
DESCRIPTION:
URL:https://p17.pl/wydarzenie/spotkanie-ze-zwierzetami-egzotycznymi/
CATEGORIES:Wydarzenia,Zajęcia dodatkowe
END:VEVENT
BEGIN:VEVENT
DTSTART;TZID=Europe/Warsaw:20240206T090000
DTEND;TZID=Europe/Warsaw:20240206T130000
DTSTAMP:20260421T143833
CREATED:20240122T182217Z
LAST-MODIFIED:20240205T095618Z
UID:3497-1707210000-1707224400@p17.pl
SUMMARY:Bal Karnawałowy
DESCRIPTION:
URL:https://p17.pl/wydarzenie/bal-karnawalowy/
END:VEVENT
BEGIN:VEVENT
DTSTART;TZID=Europe/Warsaw:20240201T130000
DTEND;TZID=Europe/Warsaw:20240201T140000
DTSTAMP:20260421T143833
CREATED:20240122T182034Z
LAST-MODIFIED:20240122T182034Z
UID:3495-1706792400-1706796000@p17.pl
SUMMARY:Teatrzyk Eden "Prawdziwy Skarb"
DESCRIPTION:
URL:https://p17.pl/wydarzenie/teatrzyk-eden-prawdziwy-skarb/
CATEGORIES:Wydarzenia,Zajęcia dodatkowe
END:VEVENT
BEGIN:VEVENT
DTSTART;VALUE=DATE:20240125
DTEND;VALUE=DATE:20240126
DTSTAMP:20260421T143833
CREATED:20231107T120350Z
LAST-MODIFIED:20231107T120350Z
UID:1294-1706140800-1706227199@p17.pl
SUMMARY:Ceramika
DESCRIPTION:
URL:https://p17.pl/wydarzenie/ceramika-2/
CATEGORIES:Wydarzenia,Zajęcia dodatkowe
END:VEVENT
BEGIN:VEVENT
DTSTART;TZID=Europe/Warsaw:20240116T153000
DTEND;TZID=Europe/Warsaw:20240116T170000
DTSTAMP:20260421T143833
CREATED:20230916T122703Z
LAST-MODIFIED:20231025T073445Z
UID:357-1705419000-1705424400@p17.pl
SUMMARY:Dzień Babci i Dziadka - Skarby
DESCRIPTION:
URL:https://p17.pl/wydarzenie/dzien-babci-i-dziadka-skarby/
CATEGORIES:Wydarzenia
END:VEVENT
BEGIN:VEVENT
DTSTART;TZID=Europe/Warsaw:20231220T080000
DTEND;TZID=Europe/Warsaw:20231220T170000
DTSTAMP:20260421T143833
CREATED:20230916T122408Z
LAST-MODIFIED:20230916T122408Z
UID:349-1703059200-1703091600@p17.pl
SUMMARY:Jasełka - Skarby
DESCRIPTION:
URL:https://p17.pl/wydarzenie/jaselka-skarby/
CATEGORIES:Wydarzenia
END:VEVENT
BEGIN:VEVENT
DTSTART;VALUE=DATE:20231206
DTEND;VALUE=DATE:20231207
DTSTAMP:20260421T143833
CREATED:20230916T121710Z
LAST-MODIFIED:20230916T121710Z
UID:341-1701820800-1701907199@p17.pl
SUMMARY:Spotkanie z Mikołajem
DESCRIPTION:
URL:https://p17.pl/wydarzenie/spotkanie-z-mikolajem/
CATEGORIES:Wydarzenia
END:VEVENT
BEGIN:VEVENT
DTSTART;TZID=Europe/Warsaw:20231204T070000
DTEND;TZID=Europe/Warsaw:20231204T080000
DTSTAMP:20260421T143833
CREATED:20230916T121640Z
LAST-MODIFIED:20230916T121640Z
UID:339-1701673200-1701676800@p17.pl
SUMMARY:Początek Rorat dla dzieci w kaplicy
DESCRIPTION:
URL:https://p17.pl/wydarzenie/poczatek-rorat-dla-dzieci-w-kaplicy/
CATEGORIES:Wydarzenia
END:VEVENT
BEGIN:VEVENT
DTSTART;VALUE=DATE:20231129
DTEND;VALUE=DATE:20231130
DTSTAMP:20260421T143833
CREATED:20230916T121536Z
LAST-MODIFIED:20230916T121536Z
UID:337-1701216000-1701302399@p17.pl
SUMMARY:Ozdabianie bombek choinkowych
DESCRIPTION:
URL:https://p17.pl/wydarzenie/ozdabianie-bombek-choinkowych/
CATEGORIES:Zajęcia dodatkowe
END:VEVENT
BEGIN:VEVENT
DTSTART;TZID=Europe/Warsaw:20231124T090000
DTEND;TZID=Europe/Warsaw:20231124T123000
DTSTAMP:20260421T143833
CREATED:20231026T112802Z
LAST-MODIFIED:20231026T183108Z
UID:1280-1700816400-1700829000@p17.pl
SUMMARY:Manufaktura Czekolady Skarby
DESCRIPTION:
URL:https://p17.pl/wydarzenie/manufaktura-czekolady-skarby/
CATEGORIES:Wycieczki
END:VEVENT
BEGIN:VEVENT
DTSTART;TZID=Europe/Warsaw:20231110T093000
DTEND;TZID=Europe/Warsaw:20231110T103000
DTSTAMP:20260421T143833
CREATED:20230916T121341Z
LAST-MODIFIED:20231026T183209Z
UID:331-1699608600-1699612200@p17.pl
SUMMARY:Nagrywanie Akademii Patriotycznej - Perełki i Skarby
DESCRIPTION:
URL:https://p17.pl/wydarzenie/nagrywanie-akademii-patriotycznej-perelki-i-skarby/
CATEGORIES:Wydarzenia
END:VEVENT
BEGIN:VEVENT
DTSTART;TZID=Europe/Warsaw:20231031T090000
DTEND;TZID=Europe/Warsaw:20231031T120000
DTSTAMP:20260421T143833
CREATED:20230916T121021Z
LAST-MODIFIED:20230916T121021Z
UID:323-1698742800-1698753600@p17.pl
SUMMARY:Bal Świętych
DESCRIPTION:
URL:https://p17.pl/wydarzenie/bal-swietych/
CATEGORIES:Wydarzenia
END:VEVENT
BEGIN:VEVENT
DTSTART;TZID=Europe/Warsaw:20231025T150000
DTEND;TZID=Europe/Warsaw:20231025T163000
DTSTAMP:20260421T143833
CREATED:20230916T120823Z
LAST-MODIFIED:20230916T120823Z
UID:319-1698246000-1698251400@p17.pl
SUMMARY:Zajęcia otwarte - Skarby
DESCRIPTION:
URL:https://p17.pl/wydarzenie/zajecia-otwarte-skarby/
CATEGORIES:Rodzice
END:VEVENT
BEGIN:VEVENT
DTSTART;TZID=Europe/Warsaw:20231018T103000
DTEND;TZID=Europe/Warsaw:20231018T123000
DTSTAMP:20260421T143833
CREATED:20231016T141042Z
LAST-MODIFIED:20231016T141315Z
UID:974-1697625000-1697632200@p17.pl
SUMMARY:Sesja zdjęciowa
DESCRIPTION:
URL:https://p17.pl/wydarzenie/sesja-zdjeciowa/
CATEGORIES:Rodzice
END:VEVENT
BEGIN:VEVENT
DTSTART;TZID=Europe/Warsaw:20231003T090000
DTEND;TZID=Europe/Warsaw:20231003T140000
DTSTAMP:20260421T143833
CREATED:20230916T120350Z
LAST-MODIFIED:20230929T133006Z
UID:308-1696323600-1696341600@p17.pl
SUMMARY:Wycieczka do Kalwaria Zebrzydowskiej - Kamyczki\, Kropelki\, Iskierki\, Skarby
DESCRIPTION:Kalwaria to tętniące miejsce kultu. Pielgrzymów\, których liczba sięga dwóch milionów rocznie\, przyciągają nabożeństwa dróżkowe na Dróżkach Pana Jezusa i Dróżkach Matki Bożej\, oraz Cudowny Obraz Maryi Kalwaryskiej. Ważną posługą bernardynów w tym miejscu jest również sakrament pokuty.
URL:https://p17.pl/wydarzenie/wycieczka-do-kalwaria-zebrzydowskiej-kamyczki-kropelki-iskierki-skarby/
CATEGORIES:Wycieczki
ATTACH;FMTTYPE=image/jpeg:https://p17.pl/wp-content/uploads/2023/09/kalwaria.jpg
END:VEVENT
BEGIN:VEVENT
DTSTART;VALUE=DATE:20230928
DTEND;VALUE=DATE:20230929
DTSTAMP:20260421T143833
CREATED:20230916T120059Z
LAST-MODIFIED:20230916T120059Z
UID:302-1695859200-1695945599@p17.pl
SUMMARY:Bal Aniołów
DESCRIPTION:
URL:https://p17.pl/wydarzenie/bal-aniolow/
CATEGORIES:Wydarzenia
END:VEVENT
BEGIN:VEVENT
DTSTART;VALUE=DATE:20230921
DTEND;VALUE=DATE:20230922
DTSTAMP:20260421T143833
CREATED:20230914T081128Z
LAST-MODIFIED:20230916T115845Z
UID:298-1695254400-1695340799@p17.pl
SUMMARY:Ceramika
DESCRIPTION:
URL:https://p17.pl/wydarzenie/ceramika/
CATEGORIES:Zajęcia dodatkowe
END:VEVENT
END:VCALENDAR