
BEGIN:VCALENDAR
VERSION:2.0
PRODID:-//Przedszkole nr 17 Sióstr Służebniczek w Krakowie - ECPv6.15.20//NONSGML v1.0//EN
CALSCALE:GREGORIAN
METHOD:PUBLISH
X-ORIGINAL-URL:https://p17.pl
X-WR-CALDESC:Wydarzenia dla Przedszkole nr 17 Sióstr Służebniczek w Krakowie
REFRESH-INTERVAL;VALUE=DURATION:PT1H
X-Robots-Tag:noindex
X-PUBLISHED-TTL:PT1H
BEGIN:VTIMEZONE
TZID:Europe/Warsaw
BEGIN:DAYLIGHT
TZOFFSETFROM:+0100
TZOFFSETTO:+0200
TZNAME:CEST
DTSTART:20240331T010000
END:DAYLIGHT
BEGIN:STANDARD
TZOFFSETFROM:+0200
TZOFFSETTO:+0100
TZNAME:CET
DTSTART:20241027T010000
END:STANDARD
BEGIN:DAYLIGHT
TZOFFSETFROM:+0100
TZOFFSETTO:+0200
TZNAME:CEST
DTSTART:20250330T010000
END:DAYLIGHT
BEGIN:STANDARD
TZOFFSETFROM:+0200
TZOFFSETTO:+0100
TZNAME:CET
DTSTART:20251026T010000
END:STANDARD
BEGIN:DAYLIGHT
TZOFFSETFROM:+0100
TZOFFSETTO:+0200
TZNAME:CEST
DTSTART:20260329T010000
END:DAYLIGHT
BEGIN:STANDARD
TZOFFSETFROM:+0200
TZOFFSETTO:+0100
TZNAME:CET
DTSTART:20261025T010000
END:STANDARD
BEGIN:DAYLIGHT
TZOFFSETFROM:+0100
TZOFFSETTO:+0200
TZNAME:CEST
DTSTART:20270328T010000
END:DAYLIGHT
BEGIN:STANDARD
TZOFFSETFROM:+0200
TZOFFSETTO:+0100
TZNAME:CET
DTSTART:20271031T010000
END:STANDARD
END:VTIMEZONE
BEGIN:VEVENT
DTSTART;TZID=Europe/Warsaw:20250521T100000
DTEND;TZID=Europe/Warsaw:20250521T110000
DTSTAMP:20260422T001401
CREATED:20250217T092103Z
LAST-MODIFIED:20250217T092103Z
UID:11897-1747821600-1747825200@p17.pl
SUMMARY:Grota solna - Perełki
DESCRIPTION:
URL:https://p17.pl/wydarzenie/grota-solna-perelki-3/
CATEGORIES:Zajęcia dodatkowe
END:VEVENT
BEGIN:VEVENT
DTSTART;TZID=Europe/Warsaw:20250528T090000
DTEND;TZID=Europe/Warsaw:20250528T120000
DTSTAMP:20260422T001401
CREATED:20250217T092309Z
LAST-MODIFIED:20250217T092309Z
UID:11901-1748422800-1748433600@p17.pl
SUMMARY:Ogród botaniczny - Perełki
DESCRIPTION:
URL:https://p17.pl/wydarzenie/ogrod-botaniczny-perelki/
CATEGORIES:Wycieczki
END:VEVENT
BEGIN:VEVENT
DTSTART;TZID=Europe/Warsaw:20250602T080000
DTEND;TZID=Europe/Warsaw:20250606T170000
DTSTAMP:20260422T001401
CREATED:20241003T124019Z
LAST-MODIFIED:20241003T124019Z
UID:8559-1748851200-1749229200@p17.pl
SUMMARY:Zielone Przedszkole - grupy młodsze
DESCRIPTION:
URL:https://p17.pl/wydarzenie/zielone-przedszkole-grupy-mlodsze-2/
CATEGORIES:Wycieczki
END:VEVENT
BEGIN:VEVENT
DTSTART;VALUE=DATE:20250612
DTEND;VALUE=DATE:20250613
DTSTAMP:20260422T001401
CREATED:20250217T092214Z
LAST-MODIFIED:20250528T055915Z
UID:11899-1749686400-1749772799@p17.pl
SUMMARY:Zabawy na zamku dmuchanym
DESCRIPTION:
URL:https://p17.pl/wydarzenie/zabawy-na-zamku-dmuchanym/
CATEGORIES:Wydarzenia
END:VEVENT
BEGIN:VEVENT
DTSTART;TZID=Europe/Warsaw:20250714T080000
DTEND;TZID=Europe/Warsaw:20250817T170000
DTSTAMP:20260422T001401
CREATED:20250528T060258Z
LAST-MODIFIED:20250528T060258Z
UID:15173-1752480000-1755450000@p17.pl
SUMMARY:PRZERWA WAKACYJNA
DESCRIPTION:
URL:https://p17.pl/wydarzenie/przerwa-wakacyjna-2/
CATEGORIES:Dni wolne
END:VEVENT
BEGIN:VEVENT
DTSTART;TZID=Europe/Warsaw:20250902T170000
DTEND;TZID=Europe/Warsaw:20250902T180000
DTSTAMP:20260422T001401
CREATED:20250831T155800Z
LAST-MODIFIED:20250831T155800Z
UID:15768-1756832400-1756836000@p17.pl
SUMMARY:Zebrania organizacyjne na rok szkolny 2025/2026
DESCRIPTION:Serdecznie zapraszamy Rodziców dzieci z grupy: „Perełki radości”\, „Promyki nadziei” na spotkania organizacyjne rozpoczynające rok szkolny 2025/2026. Spotkania odbędą się o godz. 17:00 w salach dzieci z poszczególnych grup.
URL:https://p17.pl/wydarzenie/zebrania-organizacyjne-na-rok-szkolny-2025-2026-2/
CATEGORIES:Rodzice
END:VEVENT
BEGIN:VEVENT
DTSTART;TZID=Europe/Warsaw:20251007T153000
DTEND;TZID=Europe/Warsaw:20251007T163000
DTSTAMP:20260422T001401
CREATED:20250908T173413Z
LAST-MODIFIED:20250908T173651Z
UID:15789-1759851000-1759854600@p17.pl
SUMMARY:Zajęcia otwarte
DESCRIPTION:Serdecznie zapraszamy Rodziców na zajęcia otwarte\, które odbędą się w grupach: „Perełki radości”\, „Iskierki przyjaźni” w dn. 07.10. o godz. 15:30.
URL:https://p17.pl/wydarzenie/zajecia-otwarte-2/
CATEGORIES:Rodzice,Wydarzenia
END:VEVENT
BEGIN:VEVENT
DTSTART;VALUE=DATE:20251107
DTEND;VALUE=DATE:20251108
DTSTAMP:20260422T001401
CREATED:20251029T090258Z
LAST-MODIFIED:20251029T090258Z
UID:16588-1762473600-1762559999@p17.pl
SUMMARY:Akademia patriotyczna - Kropelki\, Perełki\, Promyki
DESCRIPTION:
URL:https://p17.pl/wydarzenie/akademia-patriotyczna-kropelki-perelki-promyki/
END:VEVENT
BEGIN:VEVENT
DTSTART;TZID=Europe/Warsaw:20251126T093000
DTEND;TZID=Europe/Warsaw:20251126T130000
DTSTAMP:20260422T001401
CREATED:20251103T133938Z
LAST-MODIFIED:20251103T133938Z
UID:16666-1764149400-1764162000@p17.pl
SUMMARY:Wycieczka do Smart Kids Planet - Perełki
DESCRIPTION:
URL:https://p17.pl/wydarzenie/wycieczka-do-smart-kids-planet-perelki/
CATEGORIES:Wycieczki
END:VEVENT
BEGIN:VEVENT
DTSTART;TZID=Europe/Warsaw:20251203T090000
DTEND;TZID=Europe/Warsaw:20251203T110000
DTSTAMP:20260422T001401
CREATED:20251117T113155Z
LAST-MODIFIED:20251117T113155Z
UID:17004-1764752400-1764759600@p17.pl
SUMMARY:Warsztaty malowania drewnianych szopek - Perełki\, Promyki\, Iskierki
DESCRIPTION:
URL:https://p17.pl/wydarzenie/warsztaty-malowania-drewnianych-szopek-perelki-promyki-iskierki/
CATEGORIES:Zajęcia dodatkowe
END:VEVENT
BEGIN:VEVENT
DTSTART;TZID=Europe/Warsaw:20251217T153000
DTEND;TZID=Europe/Warsaw:20251217T170000
DTSTAMP:20260422T001401
CREATED:20251027T095522Z
LAST-MODIFIED:20251027T095522Z
UID:16553-1765985400-1765990800@p17.pl
SUMMARY:Jasełka - Perełki
DESCRIPTION:
URL:https://p17.pl/wydarzenie/jaselka-perelki-3/
CATEGORIES:Wydarzenia
END:VEVENT
BEGIN:VEVENT
DTSTART;TZID=Europe/Warsaw:20260122T153000
DTEND;TZID=Europe/Warsaw:20260122T170000
DTSTAMP:20260422T001401
CREATED:20251027T123020Z
LAST-MODIFIED:20251027T123020Z
UID:16570-1769095800-1769101200@p17.pl
SUMMARY:Dzień Babci i Dziadka - Perełki
DESCRIPTION:
URL:https://p17.pl/wydarzenie/dzien-babci-i-dziadka-perelki-3/
CATEGORIES:Wydarzenia
END:VEVENT
BEGIN:VEVENT
DTSTART;TZID=Europe/Warsaw:20260309T153000
DTEND;TZID=Europe/Warsaw:20260309T170000
DTSTAMP:20260422T001401
CREATED:20251029T092937Z
LAST-MODIFIED:20251029T093053Z
UID:16596-1773070200-1773075600@p17.pl
SUMMARY:Zajęcia otwarte - Promyki\, Perełki\, Iskierki
DESCRIPTION:
URL:https://p17.pl/wydarzenie/zajecia-otwarte-promyki-perelki-iskierki/
CATEGORIES:Zajęcia otwarte
END:VEVENT
BEGIN:VEVENT
DTSTART;TZID=Europe/Warsaw:20260526T150000
DTEND;TZID=Europe/Warsaw:20260526T170000
DTSTAMP:20260422T001401
CREATED:20260415T080637Z
LAST-MODIFIED:20260415T080637Z
UID:18398-1779807600-1779814800@p17.pl
SUMMARY:Dzień Rodziny - Perełki
DESCRIPTION:
URL:https://p17.pl/wydarzenie/dzien-rodziny-perelki-3/
CATEGORIES:Wydarzenia
END:VEVENT
BEGIN:VEVENT
DTSTART;TZID=Europe/Warsaw:20260616T090000
DTEND;TZID=Europe/Warsaw:20260616T110000
DTSTAMP:20260422T001401
CREATED:20260413T105509Z
LAST-MODIFIED:20260413T105509Z
UID:18361-1781600400-1781607600@p17.pl
SUMMARY:Teatr Groteska "Miś Tymoteusz" - Perełki
DESCRIPTION:
URL:https://p17.pl/wydarzenie/teatr-groteska-mis-tymoteusz-perelki/
CATEGORIES:Wycieczki
END:VEVENT
END:VCALENDAR