
BEGIN:VCALENDAR
VERSION:2.0
PRODID:-//Przedszkole nr 17 Sióstr Służebniczek w Krakowie - ECPv6.15.20//NONSGML v1.0//EN
CALSCALE:GREGORIAN
METHOD:PUBLISH
X-WR-CALNAME:Przedszkole nr 17 Sióstr Służebniczek w Krakowie
X-ORIGINAL-URL:https://p17.pl
X-WR-CALDESC:Wydarzenia dla Przedszkole nr 17 Sióstr Służebniczek w Krakowie
REFRESH-INTERVAL;VALUE=DURATION:PT1H
X-Robots-Tag:noindex
X-PUBLISHED-TTL:PT1H
BEGIN:VTIMEZONE
TZID:Europe/Warsaw
BEGIN:DAYLIGHT
TZOFFSETFROM:+0100
TZOFFSETTO:+0200
TZNAME:CEST
DTSTART:20240331T010000
END:DAYLIGHT
BEGIN:STANDARD
TZOFFSETFROM:+0200
TZOFFSETTO:+0100
TZNAME:CET
DTSTART:20241027T010000
END:STANDARD
BEGIN:DAYLIGHT
TZOFFSETFROM:+0100
TZOFFSETTO:+0200
TZNAME:CEST
DTSTART:20250330T010000
END:DAYLIGHT
BEGIN:STANDARD
TZOFFSETFROM:+0200
TZOFFSETTO:+0100
TZNAME:CET
DTSTART:20251026T010000
END:STANDARD
BEGIN:DAYLIGHT
TZOFFSETFROM:+0100
TZOFFSETTO:+0200
TZNAME:CEST
DTSTART:20260329T010000
END:DAYLIGHT
BEGIN:STANDARD
TZOFFSETFROM:+0200
TZOFFSETTO:+0100
TZNAME:CET
DTSTART:20261025T010000
END:STANDARD
END:VTIMEZONE
BEGIN:VEVENT
DTSTART;TZID=Europe/Warsaw:20250506T103000
DTEND;TZID=Europe/Warsaw:20250506T130000
DTSTAMP:20260419T192348
CREATED:20250304T073039Z
LAST-MODIFIED:20250304T073039Z
UID:12462-1746527400-1746536400@p17.pl
SUMMARY:Centrum Edukacji Przyrodniczej - Kamyczki
DESCRIPTION:
URL:https://p17.pl/wydarzenie/centrum-edukacji-przyrodniczej-kamyczki/
CATEGORIES:Wycieczki
END:VEVENT
BEGIN:VEVENT
DTSTART;TZID=Europe/Warsaw:20250515T153000
DTEND;TZID=Europe/Warsaw:20250515T163000
DTSTAMP:20260419T192348
CREATED:20241003T123534Z
LAST-MODIFIED:20250428T052554Z
UID:8549-1747323000-1747326600@p17.pl
SUMMARY:Dzień Rodziny Kamyczki
DESCRIPTION:
URL:https://p17.pl/wydarzenie/dzien-rodziny-kamyczki-2/
CATEGORIES:Rodzice,Wydarzenia
END:VEVENT
BEGIN:VEVENT
DTSTART;TZID=Europe/Warsaw:20250519T080000
DTEND;TZID=Europe/Warsaw:20250523T170000
DTSTAMP:20260419T192348
CREATED:20241003T123831Z
LAST-MODIFIED:20241003T123831Z
UID:8555-1747641600-1748019600@p17.pl
SUMMARY:Zielone Przedszkole - grupy starsze
DESCRIPTION:
URL:https://p17.pl/wydarzenie/zielone-przedszkole-grupy-starsze-2/
CATEGORIES:Wycieczki
END:VEVENT
BEGIN:VEVENT
DTSTART;TZID=Europe/Warsaw:20250528T100000
DTEND;TZID=Europe/Warsaw:20250528T110000
DTSTAMP:20260419T192348
CREATED:20250217T092428Z
LAST-MODIFIED:20250217T092428Z
UID:11903-1748426400-1748430000@p17.pl
SUMMARY:Grota solna - Kamyczki
DESCRIPTION:
URL:https://p17.pl/wydarzenie/grota-solna-kamyczki-3/
CATEGORIES:Zajęcia dodatkowe
END:VEVENT
END:VCALENDAR