
BEGIN:VCALENDAR
VERSION:2.0
PRODID:-//Przedszkole nr 17 Sióstr Służebniczek w Krakowie - ECPv6.15.20//NONSGML v1.0//EN
CALSCALE:GREGORIAN
METHOD:PUBLISH
X-WR-CALNAME:Przedszkole nr 17 Sióstr Służebniczek w Krakowie
X-ORIGINAL-URL:https://p17.pl
X-WR-CALDESC:Wydarzenia dla Przedszkole nr 17 Sióstr Służebniczek w Krakowie
REFRESH-INTERVAL;VALUE=DURATION:PT1H
X-Robots-Tag:noindex
X-PUBLISHED-TTL:PT1H
BEGIN:VTIMEZONE
TZID:Europe/Warsaw
BEGIN:DAYLIGHT
TZOFFSETFROM:+0100
TZOFFSETTO:+0200
TZNAME:CEST
DTSTART:20220327T010000
END:DAYLIGHT
BEGIN:STANDARD
TZOFFSETFROM:+0200
TZOFFSETTO:+0100
TZNAME:CET
DTSTART:20221030T010000
END:STANDARD
BEGIN:DAYLIGHT
TZOFFSETFROM:+0100
TZOFFSETTO:+0200
TZNAME:CEST
DTSTART:20230326T010000
END:DAYLIGHT
BEGIN:STANDARD
TZOFFSETFROM:+0200
TZOFFSETTO:+0100
TZNAME:CET
DTSTART:20231029T010000
END:STANDARD
BEGIN:DAYLIGHT
TZOFFSETFROM:+0100
TZOFFSETTO:+0200
TZNAME:CEST
DTSTART:20240331T010000
END:DAYLIGHT
BEGIN:STANDARD
TZOFFSETFROM:+0200
TZOFFSETTO:+0100
TZNAME:CET
DTSTART:20241027T010000
END:STANDARD
BEGIN:DAYLIGHT
TZOFFSETFROM:+0100
TZOFFSETTO:+0200
TZNAME:CEST
DTSTART:20250330T010000
END:DAYLIGHT
BEGIN:STANDARD
TZOFFSETFROM:+0200
TZOFFSETTO:+0100
TZNAME:CET
DTSTART:20251026T010000
END:STANDARD
END:VTIMEZONE
BEGIN:VEVENT
DTSTART;TZID=Europe/Warsaw:20241218T153000
DTEND;TZID=Europe/Warsaw:20241218T163000
DTSTAMP:20260419T145207
CREATED:20241003T100810Z
LAST-MODIFIED:20241003T100810Z
UID:8456-1734535800-1734539400@p17.pl
SUMMARY:Jasełka Iskierki
DESCRIPTION:
URL:https://p17.pl/wydarzenie/jaselka-iskierki-2/
CATEGORIES:Rodzice,Wydarzenia
END:VEVENT
BEGIN:VEVENT
DTSTART;TZID=Europe/Warsaw:20241206T090000
DTEND;TZID=Europe/Warsaw:20241206T140000
DTSTAMP:20260419T145207
CREATED:20241003T100358Z
LAST-MODIFIED:20241003T121313Z
UID:8450-1733475600-1733493600@p17.pl
SUMMARY:Spotkanie z Mikołajem
DESCRIPTION:
URL:https://p17.pl/wydarzenie/spotkanie-z-mikolajem-2/
CATEGORIES:Wydarzenia
END:VEVENT
BEGIN:VEVENT
DTSTART;TZID=Europe/Warsaw:20241204T090000
DTEND;TZID=Europe/Warsaw:20241204T140000
DTSTAMP:20260419T145207
CREATED:20241003T095349Z
LAST-MODIFIED:20241003T121350Z
UID:8448-1733302800-1733320800@p17.pl
SUMMARY:Warsztaty malowania baniek
DESCRIPTION:
URL:https://p17.pl/wydarzenie/warsztaty-malowania-baniek/
CATEGORIES:Zajęcia dodatkowe
END:VEVENT
BEGIN:VEVENT
DTSTART;TZID=Europe/Warsaw:20241108T090000
DTEND;TZID=Europe/Warsaw:20241108T120000
DTSTAMP:20260419T145207
CREATED:20241003T084813Z
LAST-MODIFIED:20241003T121516Z
UID:8434-1731056400-1731067200@p17.pl
SUMMARY:Akademia Patriotyczna Iskierki\, Kamyczki\, Perełki
DESCRIPTION:
URL:https://p17.pl/wydarzenie/akademia-patriotyczna-iskierki-kamyczki-perelki/
CATEGORIES:Wydarzenia
END:VEVENT
BEGIN:VEVENT
DTSTART;VALUE=DATE:20241031
DTEND;VALUE=DATE:20241101
DTSTAMP:20260419T145207
CREATED:20241003T083712Z
LAST-MODIFIED:20241003T121623Z
UID:8426-1730332800-1730419199@p17.pl
SUMMARY:"Bal wszystkich świętych" świętowanie z krakowskimi świętymi
DESCRIPTION:
URL:https://p17.pl/wydarzenie/bal-wszystkich-swietych-swietowanie-z-krakowskimi-swietymi/
CATEGORIES:Wydarzenia
END:VEVENT
BEGIN:VEVENT
DTSTART;TZID=Europe/Warsaw:20241023T090000
DTEND;TZID=Europe/Warsaw:20241023T120000
DTSTAMP:20260419T145207
CREATED:20241003T070256Z
LAST-MODIFIED:20241003T121707Z
UID:8421-1729674000-1729684800@p17.pl
SUMMARY:"Kraków i Małopolska" - konkurs recytatorski
DESCRIPTION:
URL:https://p17.pl/wydarzenie/krakow-i-malopolska-konkurs-recytatorski/
CATEGORIES:Wydarzenia
END:VEVENT
BEGIN:VEVENT
DTSTART;TZID=Europe/Warsaw:20241016T090000
DTEND;TZID=Europe/Warsaw:20241016T110000
DTSTAMP:20260419T145207
CREATED:20241010T120139Z
LAST-MODIFIED:20241010T120139Z
UID:8893-1729069200-1729076400@p17.pl
SUMMARY:Wycieczka do parku Jordana
DESCRIPTION:
URL:https://p17.pl/wydarzenie/wycieczka-do-parku-jordana/
CATEGORIES:Wycieczki
END:VEVENT
BEGIN:VEVENT
DTSTART;TZID=Europe/Warsaw:20241015T090000
DTEND;TZID=Europe/Warsaw:20241015T130000
DTSTAMP:20260419T145207
CREATED:20241003T070037Z
LAST-MODIFIED:20241003T121227Z
UID:8419-1728982800-1728997200@p17.pl
SUMMARY:Warsztaty Misia
DESCRIPTION:
URL:https://p17.pl/wydarzenie/warsztaty-misia/
CATEGORIES:Zajęcia dodatkowe
END:VEVENT
BEGIN:VEVENT
DTSTART;TZID=Europe/Warsaw:20241009T153000
DTEND;TZID=Europe/Warsaw:20241009T163000
DTSTAMP:20260419T145207
CREATED:20241003T064246Z
LAST-MODIFIED:20241003T114900Z
UID:8413-1728487800-1728491400@p17.pl
SUMMARY:Zajęcia otwarte Iskierki
DESCRIPTION:
URL:https://p17.pl/wydarzenie/zajecia-otwarte-iskierki/
CATEGORIES:Rodzice,Wydarzenia
END:VEVENT
BEGIN:VEVENT
DTSTART;TZID=Europe/Warsaw:20240606T090000
DTEND;TZID=Europe/Warsaw:20240606T140000
DTSTAMP:20260419T145207
CREATED:20240207T152647Z
LAST-MODIFIED:20240422T151413Z
UID:4061-1717664400-1717682400@p17.pl
SUMMARY:"Życzliwe wiersze" konkurs recytatorski
DESCRIPTION:
URL:https://p17.pl/wydarzenie/zyczliwe-wiersze-konkurs-recytatorski/
CATEGORIES:Wydarzenia
END:VEVENT
BEGIN:VEVENT
DTSTART;VALUE=DATE:20240520
DTEND;VALUE=DATE:20240525
DTSTAMP:20260419T145207
CREATED:20240207T153337Z
LAST-MODIFIED:20240207T153337Z
UID:4073-1716163200-1716595199@p17.pl
SUMMARY:Zielone Przedszkole Grupy Starsze
DESCRIPTION:
URL:https://p17.pl/wydarzenie/zielone-przedszkole-grupy-starsze/
CATEGORIES:Wycieczki
END:VEVENT
BEGIN:VEVENT
DTSTART;TZID=Europe/Warsaw:20240514T153000
DTEND;TZID=Europe/Warsaw:20240514T163000
DTSTAMP:20260419T145207
CREATED:20240207T153016Z
LAST-MODIFIED:20240207T153137Z
UID:4067-1715700600-1715704200@p17.pl
SUMMARY:Dzień Rodziny Iskierki
DESCRIPTION:
URL:https://p17.pl/wydarzenie/dzien-rodziny-iskierki/
CATEGORIES:Wydarzenia
END:VEVENT
BEGIN:VEVENT
DTSTART;TZID=Europe/Warsaw:20240418T090000
DTEND;TZID=Europe/Warsaw:20240418T120000
DTSTAMP:20260419T145207
CREATED:20240207T065451Z
LAST-MODIFIED:20240403T142137Z
UID:4055-1713430800-1713441600@p17.pl
SUMMARY:"Wioski świata" - wycieczka
DESCRIPTION:
URL:https://p17.pl/wydarzenie/wioski-swiata-wycieczka/
CATEGORIES:Wycieczki
END:VEVENT
BEGIN:VEVENT
DTSTART;TZID=Europe/Warsaw:20240404T150000
DTEND;TZID=Europe/Warsaw:20240404T160000
DTSTAMP:20260419T145207
CREATED:20240207T063100Z
LAST-MODIFIED:20240311T102736Z
UID:4045-1712242800-1712246400@p17.pl
SUMMARY:Zajęcia otwarte Iskierek
DESCRIPTION:
URL:https://p17.pl/wydarzenie/zajecia-otwarte-iskierek/
CATEGORIES:Rodzice
END:VEVENT
BEGIN:VEVENT
DTSTART;TZID=Europe/Warsaw:20240307T090000
DTEND;TZID=Europe/Warsaw:20240307T120000
DTSTAMP:20260419T145207
CREATED:20240207T152822Z
LAST-MODIFIED:20240207T152822Z
UID:4063-1709802000-1709812800@p17.pl
SUMMARY:Ogród doświadczeń wycieczka
DESCRIPTION:
URL:https://p17.pl/wydarzenie/ogrod-doswiadczen-wycieczka/
CATEGORIES:Wycieczki
END:VEVENT
BEGIN:VEVENT
DTSTART;TZID=Europe/Warsaw:20240306T090000
DTEND;TZID=Europe/Warsaw:20240306T120000
DTSTAMP:20260419T145207
CREATED:20240207T152234Z
LAST-MODIFIED:20240223T121956Z
UID:4057-1709715600-1709726400@p17.pl
SUMMARY:Muzeum Obwarzanka Kamyczki
DESCRIPTION:
URL:https://p17.pl/wydarzenie/muzeum-obwarzanka-kamyczki/
CATEGORIES:Wycieczki
END:VEVENT
BEGIN:VEVENT
DTSTART;TZID=Europe/Warsaw:20240220T090000
DTEND;TZID=Europe/Warsaw:20240220T110000
DTSTAMP:20260419T145207
CREATED:20240205T133949Z
LAST-MODIFIED:20240207T152049Z
UID:4015-1708419600-1708426800@p17.pl
SUMMARY:Fikołki - wyjście Iskierek
DESCRIPTION:
URL:https://p17.pl/wydarzenie/fikolki-wyjscie-iskierek/
CATEGORIES:Wycieczki
END:VEVENT
BEGIN:VEVENT
DTSTART;TZID=Europe/Warsaw:20240216T123000
DTEND;TZID=Europe/Warsaw:20240216T133000
DTSTAMP:20260419T145207
CREATED:20240205T100102Z
LAST-MODIFIED:20240205T100102Z
UID:4007-1708086600-1708090200@p17.pl
SUMMARY:Spotkanie z Harcerzami
DESCRIPTION:
URL:https://p17.pl/wydarzenie/spotkanie-z-harcerzami/
CATEGORIES:Wydarzenia
END:VEVENT
BEGIN:VEVENT
DTSTART;TZID=Europe/Warsaw:20240213T090000
DTEND;TZID=Europe/Warsaw:20240213T120000
DTSTAMP:20260419T145207
CREATED:20240122T182515Z
LAST-MODIFIED:20240122T182515Z
UID:3500-1707814800-1707825600@p17.pl
SUMMARY:Spotkanie ze zwierzętami egzotycznymi
DESCRIPTION:
URL:https://p17.pl/wydarzenie/spotkanie-ze-zwierzetami-egzotycznymi/
CATEGORIES:Wydarzenia,Zajęcia dodatkowe
END:VEVENT
BEGIN:VEVENT
DTSTART;TZID=Europe/Warsaw:20240209T090000
DTEND;TZID=Europe/Warsaw:20240209T120000
DTSTAMP:20260419T145207
CREATED:20240205T100325Z
LAST-MODIFIED:20240205T100352Z
UID:4011-1707469200-1707480000@p17.pl
SUMMARY:Bal Karnawałowy Iskierek
DESCRIPTION:
URL:https://p17.pl/wydarzenie/bal-karnawalowy-iskierek/
CATEGORIES:Wydarzenia
END:VEVENT
BEGIN:VEVENT
DTSTART;TZID=Europe/Warsaw:20240201T130000
DTEND;TZID=Europe/Warsaw:20240201T140000
DTSTAMP:20260419T145207
CREATED:20240122T182034Z
LAST-MODIFIED:20240122T182034Z
UID:3495-1706792400-1706796000@p17.pl
SUMMARY:Teatrzyk Eden "Prawdziwy Skarb"
DESCRIPTION:
URL:https://p17.pl/wydarzenie/teatrzyk-eden-prawdziwy-skarb/
CATEGORIES:Wydarzenia,Zajęcia dodatkowe
END:VEVENT
BEGIN:VEVENT
DTSTART;VALUE=DATE:20240125
DTEND;VALUE=DATE:20240126
DTSTAMP:20260419T145207
CREATED:20231107T120350Z
LAST-MODIFIED:20231107T120350Z
UID:1294-1706140800-1706227199@p17.pl
SUMMARY:Ceramika
DESCRIPTION:
URL:https://p17.pl/wydarzenie/ceramika-2/
CATEGORIES:Wydarzenia,Zajęcia dodatkowe
END:VEVENT
BEGIN:VEVENT
DTSTART;TZID=Europe/Warsaw:20240115T153000
DTEND;TZID=Europe/Warsaw:20240115T170000
DTSTAMP:20260419T145207
CREATED:20230916T122628Z
LAST-MODIFIED:20231025T073402Z
UID:355-1705332600-1705338000@p17.pl
SUMMARY:Dzień Babci i Dziadka - Iskierki
DESCRIPTION:
URL:https://p17.pl/wydarzenie/dzien-babci-i-dziadka-iskierki/
CATEGORIES:Wydarzenia
END:VEVENT
BEGIN:VEVENT
DTSTART;TZID=Europe/Warsaw:20231221T153000
DTEND;TZID=Europe/Warsaw:20231221T170000
DTSTAMP:20260419T145207
CREATED:20230916T122503Z
LAST-MODIFIED:20230916T122503Z
UID:351-1703172600-1703178000@p17.pl
SUMMARY:Jasełka - Iskierki
DESCRIPTION:
URL:https://p17.pl/wydarzenie/jaselka-iskierki/
CATEGORIES:Wydarzenia
END:VEVENT
BEGIN:VEVENT
DTSTART;VALUE=DATE:20231206
DTEND;VALUE=DATE:20231207
DTSTAMP:20260419T145207
CREATED:20230916T121710Z
LAST-MODIFIED:20230916T121710Z
UID:341-1701820800-1701907199@p17.pl
SUMMARY:Spotkanie z Mikołajem
DESCRIPTION:
URL:https://p17.pl/wydarzenie/spotkanie-z-mikolajem/
CATEGORIES:Wydarzenia
END:VEVENT
BEGIN:VEVENT
DTSTART;TZID=Europe/Warsaw:20231204T070000
DTEND;TZID=Europe/Warsaw:20231204T080000
DTSTAMP:20260419T145207
CREATED:20230916T121640Z
LAST-MODIFIED:20230916T121640Z
UID:339-1701673200-1701676800@p17.pl
SUMMARY:Początek Rorat dla dzieci w kaplicy
DESCRIPTION:
URL:https://p17.pl/wydarzenie/poczatek-rorat-dla-dzieci-w-kaplicy/
CATEGORIES:Wydarzenia
END:VEVENT
BEGIN:VEVENT
DTSTART;VALUE=DATE:20231129
DTEND;VALUE=DATE:20231130
DTSTAMP:20260419T145207
CREATED:20230916T121536Z
LAST-MODIFIED:20230916T121536Z
UID:337-1701216000-1701302399@p17.pl
SUMMARY:Ozdabianie bombek choinkowych
DESCRIPTION:
URL:https://p17.pl/wydarzenie/ozdabianie-bombek-choinkowych/
CATEGORIES:Zajęcia dodatkowe
END:VEVENT
BEGIN:VEVENT
DTSTART;VALUE=DATE:20231108
DTEND;VALUE=DATE:20231109
DTSTAMP:20260419T145207
CREATED:20230916T121256Z
LAST-MODIFIED:20230916T121256Z
UID:329-1699401600-1699487999@p17.pl
SUMMARY:Nagrywanie Akademii Patriotycznej - Iskierki
DESCRIPTION:
URL:https://p17.pl/wydarzenie/nagrywanie-akademii-patriotycznej-iskierki/
CATEGORIES:Wydarzenia
END:VEVENT
BEGIN:VEVENT
DTSTART;TZID=Europe/Warsaw:20231031T090000
DTEND;TZID=Europe/Warsaw:20231031T120000
DTSTAMP:20260419T145207
CREATED:20230916T121021Z
LAST-MODIFIED:20230916T121021Z
UID:323-1698742800-1698753600@p17.pl
SUMMARY:Bal Świętych
DESCRIPTION:
URL:https://p17.pl/wydarzenie/bal-swietych/
CATEGORIES:Wydarzenia
END:VEVENT
BEGIN:VEVENT
DTSTART;TZID=Europe/Warsaw:20231018T103000
DTEND;TZID=Europe/Warsaw:20231018T123000
DTSTAMP:20260419T145207
CREATED:20231016T141042Z
LAST-MODIFIED:20231016T141315Z
UID:974-1697625000-1697632200@p17.pl
SUMMARY:Sesja zdjęciowa
DESCRIPTION:
URL:https://p17.pl/wydarzenie/sesja-zdjeciowa/
CATEGORIES:Rodzice
END:VEVENT
END:VCALENDAR