
BEGIN:VCALENDAR
VERSION:2.0
PRODID:-//Przedszkole nr 17 Sióstr Służebniczek w Krakowie - ECPv6.15.20//NONSGML v1.0//EN
CALSCALE:GREGORIAN
METHOD:PUBLISH
X-ORIGINAL-URL:https://p17.pl
X-WR-CALDESC:Wydarzenia dla Przedszkole nr 17 Sióstr Służebniczek w Krakowie
REFRESH-INTERVAL;VALUE=DURATION:PT1H
X-Robots-Tag:noindex
X-PUBLISHED-TTL:PT1H
BEGIN:VTIMEZONE
TZID:Europe/Warsaw
BEGIN:DAYLIGHT
TZOFFSETFROM:+0100
TZOFFSETTO:+0200
TZNAME:CEST
DTSTART:20240331T010000
END:DAYLIGHT
BEGIN:STANDARD
TZOFFSETFROM:+0200
TZOFFSETTO:+0100
TZNAME:CET
DTSTART:20241027T010000
END:STANDARD
BEGIN:DAYLIGHT
TZOFFSETFROM:+0100
TZOFFSETTO:+0200
TZNAME:CEST
DTSTART:20250330T010000
END:DAYLIGHT
BEGIN:STANDARD
TZOFFSETFROM:+0200
TZOFFSETTO:+0100
TZNAME:CET
DTSTART:20251026T010000
END:STANDARD
BEGIN:DAYLIGHT
TZOFFSETFROM:+0100
TZOFFSETTO:+0200
TZNAME:CEST
DTSTART:20260329T010000
END:DAYLIGHT
BEGIN:STANDARD
TZOFFSETFROM:+0200
TZOFFSETTO:+0100
TZNAME:CET
DTSTART:20261025T010000
END:STANDARD
END:VTIMEZONE
BEGIN:VEVENT
DTSTART;TZID=Europe/Warsaw:20250210T080000
DTEND;TZID=Europe/Warsaw:20250228T170000
DTSTAMP:20260422T011907
CREATED:20241003T103903Z
LAST-MODIFIED:20241003T105228Z
UID:8482-1739174400-1740762000@p17.pl
SUMMARY:Rekrutacja
DESCRIPTION:
URL:https://p17.pl/wydarzenie/poczatek-rekrutacji/
CATEGORIES:Rekrutacja
END:VEVENT
BEGIN:VEVENT
DTSTART;TZID=Europe/Warsaw:20250212T170000
DTEND;TZID=Europe/Warsaw:20250212T200000
DTSTAMP:20260422T011907
CREATED:20241003T105721Z
LAST-MODIFIED:20241003T105721Z
UID:8486-1739379600-1739390400@p17.pl
SUMMARY:Bibliodrama dla dorosłych
DESCRIPTION:W nadchodzącym czasie
URL:https://p17.pl/wydarzenie/bibliodrama-dla-doroslych-13/
CATEGORIES:Rodzice,Wydarzenia
END:VEVENT
BEGIN:VEVENT
DTSTART;TZID=Europe/Warsaw:20250214T090000
DTEND;TZID=Europe/Warsaw:20250214T110000
DTSTAMP:20260422T011907
CREATED:20250214T113421Z
LAST-MODIFIED:20250214T113421Z
UID:11797-1739523600-1739530800@p17.pl
SUMMARY:Warsztaty o Smogu
DESCRIPTION:
URL:https://p17.pl/wydarzenie/warsztaty-o-smogu/
CATEGORIES:Wydarzenia
END:VEVENT
BEGIN:VEVENT
DTSTART;TZID=Europe/Warsaw:20250219T090000
DTEND;TZID=Europe/Warsaw:20250219T120000
DTSTAMP:20260422T011907
CREATED:20250214T113617Z
LAST-MODIFIED:20250214T114141Z
UID:11800-1739955600-1739966400@p17.pl
SUMMARY:Wycieczka do Podziemia Rynku - Kamyczki
DESCRIPTION:
URL:https://p17.pl/wydarzenie/wycieczka-do-podziemia-rynku/
CATEGORIES:Wycieczki
END:VEVENT
BEGIN:VEVENT
DTSTART;TZID=Europe/Warsaw:20250219T100000
DTEND;TZID=Europe/Warsaw:20250219T110000
DTSTAMP:20260422T011907
CREATED:20250214T113711Z
LAST-MODIFIED:20250214T113711Z
UID:11802-1739959200-1739962800@p17.pl
SUMMARY:Grota Solna - Skarby
DESCRIPTION:
URL:https://p17.pl/wydarzenie/grota-solna-skarby/
CATEGORIES:Zajęcia dodatkowe
END:VEVENT
BEGIN:VEVENT
DTSTART;TZID=Europe/Warsaw:20250220T090000
DTEND;TZID=Europe/Warsaw:20250220T120000
DTSTAMP:20260422T011907
CREATED:20250214T113828Z
LAST-MODIFIED:20250214T114250Z
UID:11807-1740042000-1740052800@p17.pl
SUMMARY:Manufaktura czekolady - Iskierki
DESCRIPTION:
URL:https://p17.pl/wydarzenie/manufaktura-czekolady-iskierki/
CATEGORIES:Wycieczki
END:VEVENT
BEGIN:VEVENT
DTSTART;TZID=Europe/Warsaw:20250221T090000
DTEND;TZID=Europe/Warsaw:20250221T120000
DTSTAMP:20260422T011907
CREATED:20250214T113916Z
LAST-MODIFIED:20250214T113916Z
UID:11809-1740128400-1740139200@p17.pl
SUMMARY:Sala zabaw Anikino - Skarby
DESCRIPTION:
URL:https://p17.pl/wydarzenie/sala-zabaw-anikino-skarby/
CATEGORIES:Wycieczki
END:VEVENT
BEGIN:VEVENT
DTSTART;VALUE=DATE:20250224
DTEND;VALUE=DATE:20250225
DTSTAMP:20260422T011907
CREATED:20250214T121828Z
LAST-MODIFIED:20250214T121828Z
UID:11848-1740355200-1740441599@p17.pl
SUMMARY:Sesja fotograficzna do tablo
DESCRIPTION:
URL:https://p17.pl/wydarzenie/sesja-fotograficzna-do-tablo/
CATEGORIES:Wydarzenia
END:VEVENT
BEGIN:VEVENT
DTSTART;VALUE=DATE:20250225
DTEND;VALUE=DATE:20250226
DTSTAMP:20260422T011907
CREATED:20241003T110340Z
LAST-MODIFIED:20241003T113753Z
UID:8494-1740441600-1740527999@p17.pl
SUMMARY:Bal karnawałowy
DESCRIPTION:
URL:https://p17.pl/wydarzenie/bal-karnawalowy-2/
CATEGORIES:Rodzice,Wydarzenia
END:VEVENT
BEGIN:VEVENT
DTSTART;TZID=Europe/Warsaw:20250226T090000
DTEND;TZID=Europe/Warsaw:20250226T103000
DTSTAMP:20260422T011907
CREATED:20250225T095923Z
LAST-MODIFIED:20250225T100155Z
UID:12038-1740560400-1740565800@p17.pl
SUMMARY:Spotkanie z policją
DESCRIPTION:
URL:https://p17.pl/wydarzenie/spotkanie-z-policja/
CATEGORIES:Wydarzenia
END:VEVENT
BEGIN:VEVENT
DTSTART;TZID=Europe/Warsaw:20250226T100000
DTEND;TZID=Europe/Warsaw:20250226T110000
DTSTAMP:20260422T011907
CREATED:20250214T114419Z
LAST-MODIFIED:20250214T114419Z
UID:11818-1740564000-1740567600@p17.pl
SUMMARY:Grota solna - Iskierki
DESCRIPTION:
URL:https://p17.pl/wydarzenie/grota-solna-iskierki/
CATEGORIES:Zajęcia dodatkowe
END:VEVENT
BEGIN:VEVENT
DTSTART;TZID=Europe/Warsaw:20250227T090000
DTEND;TZID=Europe/Warsaw:20250227T130000
DTSTAMP:20260422T011907
CREATED:20241003T110235Z
LAST-MODIFIED:20250214T113206Z
UID:8492-1740646800-1740661200@p17.pl
SUMMARY:Konkurs recytatorski "Polscy poeci"
DESCRIPTION:
URL:https://p17.pl/wydarzenie/konkurs-recytatorski-polscy-poeci/
CATEGORIES:Wydarzenia
END:VEVENT
END:VCALENDAR