
BEGIN:VCALENDAR
VERSION:2.0
PRODID:-//Przedszkole nr 17 Sióstr Służebniczek w Krakowie - ECPv6.15.20//NONSGML v1.0//EN
CALSCALE:GREGORIAN
METHOD:PUBLISH
X-WR-CALNAME:Przedszkole nr 17 Sióstr Służebniczek w Krakowie
X-ORIGINAL-URL:https://p17.pl
X-WR-CALDESC:Wydarzenia dla Przedszkole nr 17 Sióstr Służebniczek w Krakowie
REFRESH-INTERVAL;VALUE=DURATION:PT1H
X-Robots-Tag:noindex
X-PUBLISHED-TTL:PT1H
BEGIN:VTIMEZONE
TZID:Europe/Warsaw
BEGIN:DAYLIGHT
TZOFFSETFROM:+0100
TZOFFSETTO:+0200
TZNAME:CEST
DTSTART:20230326T010000
END:DAYLIGHT
BEGIN:STANDARD
TZOFFSETFROM:+0200
TZOFFSETTO:+0100
TZNAME:CET
DTSTART:20231029T010000
END:STANDARD
BEGIN:DAYLIGHT
TZOFFSETFROM:+0100
TZOFFSETTO:+0200
TZNAME:CEST
DTSTART:20240331T010000
END:DAYLIGHT
BEGIN:STANDARD
TZOFFSETFROM:+0200
TZOFFSETTO:+0100
TZNAME:CET
DTSTART:20241027T010000
END:STANDARD
BEGIN:DAYLIGHT
TZOFFSETFROM:+0100
TZOFFSETTO:+0200
TZNAME:CEST
DTSTART:20250330T010000
END:DAYLIGHT
BEGIN:STANDARD
TZOFFSETFROM:+0200
TZOFFSETTO:+0100
TZNAME:CET
DTSTART:20251026T010000
END:STANDARD
END:VTIMEZONE
BEGIN:VEVENT
DTSTART;TZID=Europe/Warsaw:20241202T070000
DTEND;TZID=Europe/Warsaw:20241202T073000
DTSTAMP:20260422T185745
CREATED:20241003T095141Z
LAST-MODIFIED:20241003T121412Z
UID:8444-1733122800-1733124600@p17.pl
SUMMARY:Początek Rorat
DESCRIPTION:
URL:https://p17.pl/wydarzenie/poczatek-rorat/
CATEGORIES:Wydarzenia
END:VEVENT
BEGIN:VEVENT
DTSTART;TZID=Europe/Warsaw:20241203T170000
DTEND;TZID=Europe/Warsaw:20241203T200000
DTSTAMP:20260422T185745
CREATED:20241003T095235Z
LAST-MODIFIED:20241003T105840Z
UID:8446-1733245200-1733256000@p17.pl
SUMMARY:Bibliodrama dla dorosłych
DESCRIPTION:W nadchodzącym czasie
URL:https://p17.pl/wydarzenie/bibliodrama-dla-doroslych-11/
CATEGORIES:Rodzice,Wydarzenia
END:VEVENT
BEGIN:VEVENT
DTSTART;TZID=Europe/Warsaw:20241204T090000
DTEND;TZID=Europe/Warsaw:20241204T140000
DTSTAMP:20260422T185745
CREATED:20241003T095349Z
LAST-MODIFIED:20241003T121350Z
UID:8448-1733302800-1733320800@p17.pl
SUMMARY:Warsztaty malowania baniek
DESCRIPTION:
URL:https://p17.pl/wydarzenie/warsztaty-malowania-baniek/
CATEGORIES:Zajęcia dodatkowe
END:VEVENT
BEGIN:VEVENT
DTSTART;TZID=Europe/Warsaw:20241206T090000
DTEND;TZID=Europe/Warsaw:20241206T140000
DTSTAMP:20260422T185745
CREATED:20241003T100358Z
LAST-MODIFIED:20241003T121313Z
UID:8450-1733475600-1733493600@p17.pl
SUMMARY:Spotkanie z Mikołajem
DESCRIPTION:
URL:https://p17.pl/wydarzenie/spotkanie-z-mikolajem-2/
CATEGORIES:Wydarzenia
END:VEVENT
BEGIN:VEVENT
DTSTART;TZID=Europe/Warsaw:20241213T153000
DTEND;TZID=Europe/Warsaw:20241213T163000
DTSTAMP:20260422T185745
CREATED:20241003T100634Z
LAST-MODIFIED:20241211T100815Z
UID:8454-1734103800-1734107400@p17.pl
SUMMARY:Jasełka Perełki
DESCRIPTION:
URL:https://p17.pl/wydarzenie/jaselka-perelki-2/
CATEGORIES:Rodzice,Wydarzenia
END:VEVENT
BEGIN:VEVENT
DTSTART;TZID=Europe/Warsaw:20241216T153000
DTEND;TZID=Europe/Warsaw:20241216T163000
DTSTAMP:20260422T185745
CREATED:20241003T100549Z
LAST-MODIFIED:20241003T100549Z
UID:8452-1734363000-1734366600@p17.pl
SUMMARY:Jasełka Kamyczki
DESCRIPTION:
URL:https://p17.pl/wydarzenie/jaselka-kamyczki-2/
CATEGORIES:Rodzice,Wydarzenia
END:VEVENT
BEGIN:VEVENT
DTSTART;TZID=Europe/Warsaw:20241218T153000
DTEND;TZID=Europe/Warsaw:20241218T163000
DTSTAMP:20260422T185745
CREATED:20241003T100810Z
LAST-MODIFIED:20241003T100810Z
UID:8456-1734535800-1734539400@p17.pl
SUMMARY:Jasełka Iskierki
DESCRIPTION:
URL:https://p17.pl/wydarzenie/jaselka-iskierki-2/
CATEGORIES:Rodzice,Wydarzenia
END:VEVENT
BEGIN:VEVENT
DTSTART;TZID=Europe/Warsaw:20241219T153000
DTEND;TZID=Europe/Warsaw:20241219T163000
DTSTAMP:20260422T185745
CREATED:20241003T100902Z
LAST-MODIFIED:20241003T100902Z
UID:8458-1734622200-1734625800@p17.pl
SUMMARY:Jasełka Kropelki
DESCRIPTION:
URL:https://p17.pl/wydarzenie/jaselka-kropelki-2/
CATEGORIES:Rodzice,Wydarzenia
END:VEVENT
BEGIN:VEVENT
DTSTART;TZID=Europe/Warsaw:20241220T153000
DTEND;TZID=Europe/Warsaw:20241220T163000
DTSTAMP:20260422T185745
CREATED:20241003T100945Z
LAST-MODIFIED:20241003T100945Z
UID:8460-1734708600-1734712200@p17.pl
SUMMARY:Jasełka Skarby
DESCRIPTION:
URL:https://p17.pl/wydarzenie/jaselka-skarby-2/
CATEGORIES:Rodzice,Wydarzenia
END:VEVENT
BEGIN:VEVENT
DTSTART;TZID=Europe/Warsaw:20241223T113000
DTEND;TZID=Europe/Warsaw:20241223T123000
DTSTAMP:20260422T185745
CREATED:20241003T101119Z
LAST-MODIFIED:20241003T121728Z
UID:8462-1734953400-1734957000@p17.pl
SUMMARY:Wigilie grupowe
DESCRIPTION:
URL:https://p17.pl/wydarzenie/wigilie-grupowe/
CATEGORIES:Wydarzenia
END:VEVENT
BEGIN:VEVENT
DTSTART;VALUE=DATE:20241224
DTEND;VALUE=DATE:20241225
DTSTAMP:20260422T185745
CREATED:20241003T101349Z
LAST-MODIFIED:20241003T120714Z
UID:8464-1734998400-1735084799@p17.pl
SUMMARY:Dzień wolny
DESCRIPTION:
URL:https://p17.pl/wydarzenie/wolne/
CATEGORIES:Dni wolne
END:VEVENT
BEGIN:VEVENT
DTSTART;VALUE=DATE:20241225
DTEND;VALUE=DATE:20241226
DTSTAMP:20260422T185745
CREATED:20241004T112855Z
LAST-MODIFIED:20241004T112855Z
UID:8628-1735084800-1735171199@p17.pl
SUMMARY:Dzień wolny
DESCRIPTION:
URL:https://p17.pl/wydarzenie/dzien-wolny-2/
CATEGORIES:Dni wolne
END:VEVENT
BEGIN:VEVENT
DTSTART;VALUE=DATE:20241226
DTEND;VALUE=DATE:20241227
DTSTAMP:20260422T185745
CREATED:20241004T112923Z
LAST-MODIFIED:20241004T112923Z
UID:8630-1735171200-1735257599@p17.pl
SUMMARY:Dzień wolny
DESCRIPTION:
URL:https://p17.pl/wydarzenie/dzien-wolny-3/
CATEGORIES:Dni wolne
END:VEVENT
END:VCALENDAR