
BEGIN:VCALENDAR
VERSION:2.0
PRODID:-//Przedszkole nr 17 Sióstr Służebniczek w Krakowie - ECPv6.15.20//NONSGML v1.0//EN
CALSCALE:GREGORIAN
METHOD:PUBLISH
X-ORIGINAL-URL:https://p17.pl
X-WR-CALDESC:Wydarzenia dla Przedszkole nr 17 Sióstr Służebniczek w Krakowie
REFRESH-INTERVAL;VALUE=DURATION:PT1H
X-Robots-Tag:noindex
X-PUBLISHED-TTL:PT1H
BEGIN:VTIMEZONE
TZID:Europe/Warsaw
BEGIN:DAYLIGHT
TZOFFSETFROM:+0100
TZOFFSETTO:+0200
TZNAME:CEST
DTSTART:20230326T010000
END:DAYLIGHT
BEGIN:STANDARD
TZOFFSETFROM:+0200
TZOFFSETTO:+0100
TZNAME:CET
DTSTART:20231029T010000
END:STANDARD
BEGIN:DAYLIGHT
TZOFFSETFROM:+0100
TZOFFSETTO:+0200
TZNAME:CEST
DTSTART:20240331T010000
END:DAYLIGHT
BEGIN:STANDARD
TZOFFSETFROM:+0200
TZOFFSETTO:+0100
TZNAME:CET
DTSTART:20241027T010000
END:STANDARD
BEGIN:DAYLIGHT
TZOFFSETFROM:+0100
TZOFFSETTO:+0200
TZNAME:CEST
DTSTART:20250330T010000
END:DAYLIGHT
BEGIN:STANDARD
TZOFFSETFROM:+0200
TZOFFSETTO:+0100
TZNAME:CET
DTSTART:20251026T010000
END:STANDARD
END:VTIMEZONE
BEGIN:VEVENT
DTSTART;VALUE=DATE:20241101
DTEND;VALUE=DATE:20241102
DTSTAMP:20260422T174335
CREATED:20241003T101425Z
LAST-MODIFIED:20241003T120953Z
UID:8466-1730419200-1730505599@p17.pl
SUMMARY:Dzień wolny
DESCRIPTION:
URL:https://p17.pl/wydarzenie/wolne-2/
CATEGORIES:Dni wolne
END:VEVENT
BEGIN:VEVENT
DTSTART;TZID=Europe/Warsaw:20241106T090000
DTEND;TZID=Europe/Warsaw:20241106T120000
DTSTAMP:20260422T174335
CREATED:20241003T084359Z
LAST-MODIFIED:20241003T121600Z
UID:8428-1730883600-1730894400@p17.pl
SUMMARY:Akademia Patriotyczna Skarby
DESCRIPTION:
URL:https://p17.pl/wydarzenie/akademia-patriotyczna-skarby/
CATEGORIES:Wydarzenia
END:VEVENT
BEGIN:VEVENT
DTSTART;TZID=Europe/Warsaw:20241106T170000
DTEND;TZID=Europe/Warsaw:20241106T200000
DTSTAMP:20260422T174335
CREATED:20241003T084519Z
LAST-MODIFIED:20241003T105907Z
UID:8430-1730912400-1730923200@p17.pl
SUMMARY:Bibliodrama dla dorosłych
DESCRIPTION:W nadchodzącym czasie
URL:https://p17.pl/wydarzenie/bibliodrama-dla-doroslych-10/
CATEGORIES:Rodzice,Wydarzenia
END:VEVENT
BEGIN:VEVENT
DTSTART;TZID=Europe/Warsaw:20241107T090000
DTEND;TZID=Europe/Warsaw:20241107T120000
DTSTAMP:20260422T174335
CREATED:20241003T084658Z
LAST-MODIFIED:20241003T121530Z
UID:8432-1730970000-1730980800@p17.pl
SUMMARY:Akademia Patriotyczna Kropelki
DESCRIPTION:
URL:https://p17.pl/wydarzenie/akademia-patriotyczna-kropelki/
CATEGORIES:Wydarzenia
END:VEVENT
BEGIN:VEVENT
DTSTART;TZID=Europe/Warsaw:20241108T090000
DTEND;TZID=Europe/Warsaw:20241108T120000
DTSTAMP:20260422T174335
CREATED:20241003T084813Z
LAST-MODIFIED:20241003T121516Z
UID:8434-1731056400-1731067200@p17.pl
SUMMARY:Akademia Patriotyczna Iskierki\, Kamyczki\, Perełki
DESCRIPTION:
URL:https://p17.pl/wydarzenie/akademia-patriotyczna-iskierki-kamyczki-perelki/
CATEGORIES:Wydarzenia
END:VEVENT
BEGIN:VEVENT
DTSTART;VALUE=DATE:20241111
DTEND;VALUE=DATE:20241112
DTSTAMP:20260422T174335
CREATED:20241003T101449Z
LAST-MODIFIED:20241003T120901Z
UID:8468-1731283200-1731369599@p17.pl
SUMMARY:Dzień wolny
DESCRIPTION:
URL:https://p17.pl/wydarzenie/wolne-3/
CATEGORIES:Dni wolne
END:VEVENT
BEGIN:VEVENT
DTSTART;VALUE=DATE:20241115
DTEND;VALUE=DATE:20241116
DTSTAMP:20260422T174335
CREATED:20241003T084904Z
LAST-MODIFIED:20241003T121451Z
UID:8436-1731628800-1731715199@p17.pl
SUMMARY:Edmundowy dzień
DESCRIPTION:
URL:https://p17.pl/wydarzenie/edmundowy-dzien/
CATEGORIES:Wydarzenia
END:VEVENT
BEGIN:VEVENT
DTSTART;TZID=Europe/Warsaw:20241119T080000
DTEND;TZID=Europe/Warsaw:20241119T150000
DTSTAMP:20260422T174335
CREATED:20241003T092337Z
LAST-MODIFIED:20241003T121431Z
UID:8441-1732003200-1732028400@p17.pl
SUMMARY:Wycieczka do Kopalni Soli w Bochni
DESCRIPTION:
URL:https://p17.pl/wydarzenie/wycieczka-do-kopalni-soli-w-bochni/
CATEGORIES:Wycieczki
END:VEVENT
END:VCALENDAR