
BEGIN:VCALENDAR
VERSION:2.0
PRODID:-//Przedszkole nr 17 Sióstr Służebniczek w Krakowie - ECPv6.15.20//NONSGML v1.0//EN
CALSCALE:GREGORIAN
METHOD:PUBLISH
X-WR-CALNAME:Przedszkole nr 17 Sióstr Służebniczek w Krakowie
X-ORIGINAL-URL:https://p17.pl
X-WR-CALDESC:Wydarzenia dla Przedszkole nr 17 Sióstr Służebniczek w Krakowie
REFRESH-INTERVAL;VALUE=DURATION:PT1H
X-Robots-Tag:noindex
X-PUBLISHED-TTL:PT1H
BEGIN:VTIMEZONE
TZID:Europe/Warsaw
BEGIN:DAYLIGHT
TZOFFSETFROM:+0100
TZOFFSETTO:+0200
TZNAME:CEST
DTSTART:20230326T010000
END:DAYLIGHT
BEGIN:STANDARD
TZOFFSETFROM:+0200
TZOFFSETTO:+0100
TZNAME:CET
DTSTART:20231029T010000
END:STANDARD
BEGIN:DAYLIGHT
TZOFFSETFROM:+0100
TZOFFSETTO:+0200
TZNAME:CEST
DTSTART:20240331T010000
END:DAYLIGHT
BEGIN:STANDARD
TZOFFSETFROM:+0200
TZOFFSETTO:+0100
TZNAME:CET
DTSTART:20241027T010000
END:STANDARD
BEGIN:DAYLIGHT
TZOFFSETFROM:+0100
TZOFFSETTO:+0200
TZNAME:CEST
DTSTART:20250330T010000
END:DAYLIGHT
BEGIN:STANDARD
TZOFFSETFROM:+0200
TZOFFSETTO:+0100
TZNAME:CET
DTSTART:20251026T010000
END:STANDARD
END:VTIMEZONE
BEGIN:VEVENT
DTSTART;VALUE=DATE:20240705
DTEND;VALUE=DATE:20240706
DTSTAMP:20260422T200921
CREATED:20240103T090247Z
LAST-MODIFIED:20240103T090247Z
UID:3471-1720137600-1720223999@p17.pl
SUMMARY:Ogłoszenie listy kandydatów przyjętych w postępowaniu uzupełniającym
DESCRIPTION:
URL:https://p17.pl/wydarzenie/ogloszenie-listy-kandydatow-przyjetych-w-postepowaniu-uzupelniajacym/
CATEGORIES:Rekrutacja
END:VEVENT
BEGIN:VEVENT
DTSTART;TZID=Europe/Warsaw:20240708T170000
DTEND;TZID=Europe/Warsaw:20240708T200000
DTSTAMP:20260422T200921
CREATED:20240207T162639Z
LAST-MODIFIED:20240207T162639Z
UID:4089-1720458000-1720468800@p17.pl
SUMMARY:Bibliodrama dla Dorosłych
DESCRIPTION:
URL:https://p17.pl/wydarzenie/bibliodrama-dla-doroslych-8/
CATEGORIES:Rodzice,Wydarzenia
END:VEVENT
BEGIN:VEVENT
DTSTART;VALUE=DATE:20240715
DTEND;VALUE=DATE:20240817
DTSTAMP:20260422T200921
CREATED:20240207T162741Z
LAST-MODIFIED:20240207T162741Z
UID:4091-1721001600-1723852799@p17.pl
SUMMARY:Przerwa wakacyjna
DESCRIPTION:
URL:https://p17.pl/wydarzenie/przerwa-wakacyjna/
CATEGORIES:Dni wolne
END:VEVENT
END:VCALENDAR